BEGIN:VCALENDAR
VERSION:2.0
PRODID:-//Play for Easton - ECPv6.0.10//NONSGML v1.0//EN
CALSCALE:GREGORIAN
METHOD:PUBLISH
X-WR-CALNAME:Play for Easton
X-ORIGINAL-URL:https://playforeaston.org
X-WR-CALDESC:Events for Play for Easton
REFRESH-INTERVAL;VALUE=DURATION:PT1H
X-Robots-Tag:noindex
X-PUBLISHED-TTL:PT1H
BEGIN:VTIMEZONE
TZID:UTC
BEGIN:STANDARD
TZOFFSETFROM:+0000
TZOFFSETTO:+0000
TZNAME:UTC
DTSTART:20230101T000000
END:STANDARD
END:VTIMEZONE
BEGIN:VEVENT
DTSTART;TZID=UTC:20230401T040000
DTEND;TZID=UTC:20230401T180000
DTSTAMP:20260422T224806
CREATED:20230327T183316Z
LAST-MODIFIED:20230327T183800Z
UID:447-1680321600-1680372000@playforeaston.org
SUMMARY:College Station Little League Opening Ceremonies
DESCRIPTION:College Station Little League Opening Ceremonies will take place on April 1st at Bachmann park\, from 4-6 pm. A Home Run Derby will be held to benefit the Play for Easton Foundation as well as a Coach Softball Game.
URL:https://playforeaston.org/event/college-station-little-league-opening-ceremonies/
LOCATION:Bachmann Park\, 1600 Rock Prairie Rd\, College Station\, TX\, 77845\, United States
ATTACH;FMTTYPE=image/png:https://playforeaston.org/wp-content/uploads/2023/03/download.png
END:VEVENT
END:VCALENDAR