BEGIN:VCALENDAR
VERSION:2.0
PRODID:-//Play for Easton - ECPv6.0.10//NONSGML v1.0//EN
CALSCALE:GREGORIAN
METHOD:PUBLISH
X-ORIGINAL-URL:https://playforeaston.org
X-WR-CALDESC:Events for Play for Easton
REFRESH-INTERVAL;VALUE=DURATION:PT1H
X-Robots-Tag:noindex
X-PUBLISHED-TTL:PT1H
BEGIN:VTIMEZONE
TZID:UTC
BEGIN:STANDARD
TZOFFSETFROM:+0000
TZOFFSETTO:+0000
TZNAME:UTC
DTSTART:20230101T000000
END:STANDARD
END:VTIMEZONE
BEGIN:VEVENT
DTSTART;VALUE=DATE:20230513
DTEND;VALUE=DATE:20230515
DTSTAMP:20260422T165544
CREATED:20230225T205646Z
LAST-MODIFIED:20230305T180012Z
UID:48-1683936000-1684108799@playforeaston.org
SUMMARY:Play for Easton Memorial Baseball Tournament
DESCRIPTION:This event will support the Play For Easton Foundation which was developed by Easton’s parents after he lost is life in 2022 (age 9). Easton loved baseball and loved playing in Bryan-College Station. Join us for a weekend to remember Easton and help support the next generation of baseballers. All proceeds will go towards the foundation. \n Come play at the best youth baseball facility in Texas. Travis Fields at Bryan Midtown Park is a fully synthetic turf complex in Bryan-College Station. This tournament will be a 3-game guarantee with every field live-streamed.
URL:https://playforeaston.org/event/play-for-easton-memorial-tournament/
LOCATION:Travis Fields in Bryan Midtown Park\, 206 W Villa Maria Rd\, Bryan\, TX 77801\, Bryan\, TX\, 77801\, United States
ATTACH;FMTTYPE=image/png:https://playforeaston.org/wp-content/uploads/2023/02/FiveTool_sm.png
ORGANIZER;CN="Five%20Tool%20Youth%20Baseball":MAILTO:Scott@fivetoolyouth.org
END:VEVENT
END:VCALENDAR